BEGIN:VCALENDAR
VERSION:2.0
PRODID:-//Suffolk NYAPT - ECPv6.15.11//NONSGML v1.0//EN
CALSCALE:GREGORIAN
METHOD:PUBLISH
X-WR-CALNAME:Suffolk NYAPT
X-ORIGINAL-URL:https://www.suffolknyapt.net
X-WR-CALDESC:Events for Suffolk NYAPT
REFRESH-INTERVAL;VALUE=DURATION:PT1H
X-Robots-Tag:noindex
X-PUBLISHED-TTL:PT1H
BEGIN:VTIMEZONE
TZID:America/New_York
BEGIN:DAYLIGHT
TZOFFSETFROM:-0500
TZOFFSETTO:-0400
TZNAME:EDT
DTSTART:20210314T070000
END:DAYLIGHT
BEGIN:STANDARD
TZOFFSETFROM:-0400
TZOFFSETTO:-0500
TZNAME:EST
DTSTART:20211107T060000
END:STANDARD
BEGIN:DAYLIGHT
TZOFFSETFROM:-0500
TZOFFSETTO:-0400
TZNAME:EDT
DTSTART:20220313T070000
END:DAYLIGHT
BEGIN:STANDARD
TZOFFSETFROM:-0400
TZOFFSETTO:-0500
TZNAME:EST
DTSTART:20221106T060000
END:STANDARD
BEGIN:DAYLIGHT
TZOFFSETFROM:-0500
TZOFFSETTO:-0400
TZNAME:EDT
DTSTART:20230312T070000
END:DAYLIGHT
BEGIN:STANDARD
TZOFFSETFROM:-0400
TZOFFSETTO:-0500
TZNAME:EST
DTSTART:20231105T060000
END:STANDARD
BEGIN:DAYLIGHT
TZOFFSETFROM:-0500
TZOFFSETTO:-0400
TZNAME:EDT
DTSTART:20240310T070000
END:DAYLIGHT
BEGIN:STANDARD
TZOFFSETFROM:-0400
TZOFFSETTO:-0500
TZNAME:EST
DTSTART:20241103T060000
END:STANDARD
BEGIN:DAYLIGHT
TZOFFSETFROM:-0500
TZOFFSETTO:-0400
TZNAME:EDT
DTSTART:20250309T070000
END:DAYLIGHT
BEGIN:STANDARD
TZOFFSETFROM:-0400
TZOFFSETTO:-0500
TZNAME:EST
DTSTART:20251102T060000
END:STANDARD
BEGIN:DAYLIGHT
TZOFFSETFROM:-0500
TZOFFSETTO:-0400
TZNAME:EDT
DTSTART:20260308T070000
END:DAYLIGHT
BEGIN:STANDARD
TZOFFSETFROM:-0400
TZOFFSETTO:-0500
TZNAME:EST
DTSTART:20261101T060000
END:STANDARD
BEGIN:DAYLIGHT
TZOFFSETFROM:-0500
TZOFFSETTO:-0400
TZNAME:EDT
DTSTART:20270314T070000
END:DAYLIGHT
BEGIN:STANDARD
TZOFFSETFROM:-0400
TZOFFSETTO:-0500
TZNAME:EST
DTSTART:20271107T060000
END:STANDARD
END:VTIMEZONE
BEGIN:VEVENT
DTSTART;VALUE=DATE:20260417
DTEND;VALUE=DATE:20260418
DTSTAMP:20260424T111023
CREATED:20250924T012959Z
LAST-MODIFIED:20250924T013253Z
UID:603-1776384000-1776470399@www.suffolknyapt.net
SUMMARY:Nassau-Suffolk Joint Chapter Meeting 2026
DESCRIPTION:
URL:https://www.suffolknyapt.net/event/nassau-suffolk-joint-chapter-meeting-2026/
CATEGORIES:Chapter,Chapter Meetings
END:VEVENT
BEGIN:VEVENT
DTSTART;TZID=America/New_York:20260319T110000
DTEND;TZID=America/New_York:20260319T130000
DTSTAMP:20260424T111023
CREATED:20250924T012849Z
LAST-MODIFIED:20250924T012849Z
UID:600-1773918000-1773925200@www.suffolknyapt.net
SUMMARY:March 2026 Chapter Meeting
DESCRIPTION:
URL:https://www.suffolknyapt.net/event/march-2026-chapter-meeting/
LOCATION:The Oar House\, 264 West Ave\, Patchogue\, NY\, 11772\, United States
CATEGORIES:Chapter,Chapter Meetings
END:VEVENT
BEGIN:VEVENT
DTSTART;VALUE=DATE:20260219
DTEND;VALUE=DATE:20260221
DTSTAMP:20260424T111023
CREATED:20250924T012558Z
LAST-MODIFIED:20250924T012701Z
UID:596-1771459200-1771631999@www.suffolknyapt.net
SUMMARY:NYAPT Winter Workshop 2026
DESCRIPTION:
URL:https://www.suffolknyapt.net/event/nyapt-winter-workshop-2026/
LOCATION:Crowne Plaza Albany- The Desmond Hotel\, 660 Albany Shaker Road\, Colonie\, NY\, 12211\, United States
CATEGORIES:Meeting,State
END:VEVENT
BEGIN:VEVENT
DTSTART;TZID=America/New_York:20260115T110000
DTEND;TZID=America/New_York:20260115T130000
DTSTAMP:20260424T111023
CREATED:20250924T012315Z
LAST-MODIFIED:20250924T012758Z
UID:594-1768474800-1768482000@www.suffolknyapt.net
SUMMARY:January 2026 Chapter Meeting
DESCRIPTION:
URL:https://www.suffolknyapt.net/event/january-2026-chapter-meeting/
LOCATION:The Oar House\, 264 West Ave\, Patchogue\, NY\, 11772\, United States
CATEGORIES:Chapter,Chapter Meetings
END:VEVENT
BEGIN:VEVENT
DTSTART;TZID=America/New_York:20251212T110000
DTEND;TZID=America/New_York:20251212T130000
DTSTAMP:20260424T111023
CREATED:20250924T012229Z
LAST-MODIFIED:20250924T012230Z
UID:592-1765537200-1765544400@www.suffolknyapt.net
SUMMARY:December 2025 Chapter Meeting
DESCRIPTION:
URL:https://www.suffolknyapt.net/event/december-2025-chapter-meeting/
LOCATION:The Oar House\, 264 West Ave\, Patchogue\, NY\, 11772\, United States
CATEGORIES:Chapter,Chapter Meetings
END:VEVENT
BEGIN:VEVENT
DTSTART;TZID=America/New_York:20251120T110000
DTEND;TZID=America/New_York:20251120T130000
DTSTAMP:20260424T111023
CREATED:20250924T010938Z
LAST-MODIFIED:20250924T010938Z
UID:588-1763636400-1763643600@www.suffolknyapt.net
SUMMARY:November 2025 Chapter Meeting
DESCRIPTION:
URL:https://www.suffolknyapt.net/event/november-2025-chapter-meeting/
LOCATION:The Oar House\, 264 West Ave\, Patchogue\, NY\, 11772\, United States
CATEGORIES:Chapter,Chapter Meetings
END:VEVENT
BEGIN:VEVENT
DTSTART;VALUE=DATE:20251022
DTEND;VALUE=DATE:20251023
DTSTAMP:20260424T111023
CREATED:20250924T011754Z
LAST-MODIFIED:20250924T011754Z
UID:590-1761091200-1761177599@www.suffolknyapt.net
SUMMARY:Operation Safe Stop 2025
DESCRIPTION:
URL:https://www.suffolknyapt.net/event/operation-safe-stop-2025/
CATEGORIES:Chapter,Chapter Events,Event,State
END:VEVENT
BEGIN:VEVENT
DTSTART;TZID=America/New_York:20251016T110000
DTEND;TZID=America/New_York:20251016T130000
DTSTAMP:20260424T111023
CREATED:20250924T010837Z
LAST-MODIFIED:20250924T010837Z
UID:586-1760612400-1760619600@www.suffolknyapt.net
SUMMARY:October 2025 Chapter Meeting
DESCRIPTION:
URL:https://www.suffolknyapt.net/event/october-2025-chapter-meeting/
LOCATION:The Oar House\, 264 West Ave\, Patchogue\, NY\, 11772\, United States
CATEGORIES:Chapter,Chapter Meetings
END:VEVENT
BEGIN:VEVENT
DTSTART;VALUE=DATE:20250712
DTEND;VALUE=DATE:20250717
DTSTAMP:20260424T111023
CREATED:20240827T183219Z
LAST-MODIFIED:20240827T183219Z
UID:538-1752278400-1752710399@www.suffolknyapt.net
SUMMARY:NYAPT Summer Conference 2025
DESCRIPTION:
URL:https://www.suffolknyapt.net/event/nyapt-summer-conference-2025/
LOCATION:The Saratoga Hilton\, 534 Broadway\, Saratoga Springs\, NY\, 12866\, United States
CATEGORIES:Event,Meeting,State
END:VEVENT
BEGIN:VEVENT
DTSTART;TZID=America/New_York:20250612T110000
DTEND;TZID=America/New_York:20250612T130000
DTSTAMP:20260424T111023
CREATED:20240827T183123Z
LAST-MODIFIED:20240827T183123Z
UID:536-1749726000-1749733200@www.suffolknyapt.net
SUMMARY:June 2025 Chapter Meeting
DESCRIPTION:
URL:https://www.suffolknyapt.net/event/june-2025-chapter-meeting/
LOCATION:The Oar House\, 264 West Ave\, Patchogue\, NY\, 11772\, United States
CATEGORIES:Chapter,Chapter Meetings
END:VEVENT
BEGIN:VEVENT
DTSTART;TZID=America/New_York:20250515T110000
DTEND;TZID=America/New_York:20250515T130000
DTSTAMP:20260424T111023
CREATED:20240827T183040Z
LAST-MODIFIED:20240827T183040Z
UID:534-1747306800-1747314000@www.suffolknyapt.net
SUMMARY:May 2025 Chapter Meeting
DESCRIPTION:
URL:https://www.suffolknyapt.net/event/may-2025-chapter-meeting/
LOCATION:The Oar House\, 264 West Ave\, Patchogue\, NY\, 11772\, United States
CATEGORIES:Chapter,Chapter Meetings
END:VEVENT
BEGIN:VEVENT
DTSTART;VALUE=DATE:20250411
DTEND;VALUE=DATE:20250412
DTSTAMP:20260424T111023
CREATED:20240827T181414Z
LAST-MODIFIED:20250331T182725Z
UID:526-1744329600-1744415999@www.suffolknyapt.net
SUMMARY:April 2025 Joint Meeting
DESCRIPTION:Suffolk – Nassau Joint Meeting\nFriday\, April 11\, 2025 –Lombardi’s on the Bay\, Patchogue \nThis year’s Joint Meeting is scheduled for Friday\, April 11\, 2025 at\nLombardi’s on the Bay\, 600 S Ocean Ave\, Patchogue\, NY 11772. \nWe will feature three presentations; \nDe-escalation Techniques for School Bus Staff and Supervisors\nTime Management Techniques\nSpecial Care in Transporting LGBTQ Students
URL:https://www.suffolknyapt.net/event/april-2025-joint-meeting/
LOCATION:Lombardi’s on the Bay\, 600 S Ocean Ave\, Patchogue\, NY\, 11772\, United States
CATEGORIES:Chapter,Chapter Meetings
END:VEVENT
BEGIN:VEVENT
DTSTART;TZID=America/New_York:20250320T110000
DTEND;TZID=America/New_York:20250320T130000
DTSTAMP:20260424T111023
CREATED:20240827T181241Z
LAST-MODIFIED:20240827T181454Z
UID:524-1742468400-1742475600@www.suffolknyapt.net
SUMMARY:March 2025 Chapter Meeting
DESCRIPTION:
URL:https://www.suffolknyapt.net/event/march-2025-chapter-meeting/
LOCATION:The Oar House\, 264 West Ave\, Patchogue\, NY\, 11772\, United States
CATEGORIES:Chapter,Chapter Meetings
END:VEVENT
BEGIN:VEVENT
DTSTART;TZID=America/New_York:20250116T110000
DTEND;TZID=America/New_York:20250116T130000
DTSTAMP:20260424T111023
CREATED:20240827T181107Z
LAST-MODIFIED:20240827T181436Z
UID:522-1737025200-1737032400@www.suffolknyapt.net
SUMMARY:January 2025 Chapter Meeting
DESCRIPTION:Chapter meeting to be January 16 or January 23.
URL:https://www.suffolknyapt.net/event/january-2025-chapter-meeting/
LOCATION:The Oar House\, 264 West Ave\, Patchogue\, NY\, 11772\, United States
CATEGORIES:Chapter,Chapter Meetings
END:VEVENT
BEGIN:VEVENT
DTSTART;TZID=America/New_York:20241219T110000
DTEND;TZID=America/New_York:20241219T130000
DTSTAMP:20260424T111023
CREATED:20240827T180946Z
LAST-MODIFIED:20240827T180946Z
UID:520-1734606000-1734613200@www.suffolknyapt.net
SUMMARY:December 2024 Chapter Meeting
DESCRIPTION:
URL:https://www.suffolknyapt.net/event/december-2024-chapter-meeting/
LOCATION:The Oar House\, 264 West Ave\, Patchogue\, NY\, 11772\, United States
CATEGORIES:Chapter,Chapter Meetings
END:VEVENT
BEGIN:VEVENT
DTSTART;TZID=America/New_York:20241121T110000
DTEND;TZID=America/New_York:20241121T130000
DTSTAMP:20260424T111023
CREATED:20240827T180821Z
LAST-MODIFIED:20240827T180821Z
UID:518-1732186800-1732194000@www.suffolknyapt.net
SUMMARY:November 2024 Chapter Meeting
DESCRIPTION:
URL:https://www.suffolknyapt.net/event/november-2024-chapter-meeting/
LOCATION:The Oar House\, 264 West Ave\, Patchogue\, NY\, 11772\, United States
CATEGORIES:Chapter,Chapter Meetings
END:VEVENT
BEGIN:VEVENT
DTSTART;TZID=America/New_York:20241017T110000
DTEND;TZID=America/New_York:20241017T130000
DTSTAMP:20260424T111023
CREATED:20240827T180634Z
LAST-MODIFIED:20240827T180837Z
UID:516-1729162800-1729170000@www.suffolknyapt.net
SUMMARY:October 2024 Chapter Meeting
DESCRIPTION:
URL:https://www.suffolknyapt.net/event/october-2024-chapter-meeting/
LOCATION:The Oar House\, 264 West Ave\, Patchogue\, NY\, 11772\, United States
CATEGORIES:Chapter,Chapter Meetings
END:VEVENT
BEGIN:VEVENT
DTSTART;TZID=America/New_York:20240613T110000
DTEND;TZID=America/New_York:20240613T130000
DTSTAMP:20260424T111023
CREATED:20240516T164011Z
LAST-MODIFIED:20240516T164011Z
UID:507-1718276400-1718283600@www.suffolknyapt.net
SUMMARY:June 2024 Chapter Meeting
DESCRIPTION:
URL:https://www.suffolknyapt.net/event/june-2024-chapter-meeting/
LOCATION:The Oar House\, 264 West Ave\, Patchogue\, NY\, 11772\, United States
CATEGORIES:Chapter,Chapter Events
END:VEVENT
BEGIN:VEVENT
DTSTART;TZID=America/New_York:20240516T080000
DTEND;TZID=America/New_York:20240516T170000
DTSTAMP:20260424T111023
CREATED:20230807T133126Z
LAST-MODIFIED:20230807T133127Z
UID:464-1715846400-1715878800@www.suffolknyapt.net
SUMMARY:May 2024 Chapter Meeting
DESCRIPTION:
URL:https://www.suffolknyapt.net/event/may-2024-chapter-meeting/
LOCATION:The Oar House\, 264 West Ave\, Patchogue\, NY\, 11772\, United States
CATEGORIES:Chapter,Chapter Meetings
END:VEVENT
BEGIN:VEVENT
DTSTART;VALUE=DATE:20240405
DTEND;VALUE=DATE:20240406
DTSTAMP:20260424T111023
CREATED:20230807T132949Z
LAST-MODIFIED:20240325T174658Z
UID:462-1712275200-1712361599@www.suffolknyapt.net
SUMMARY:April 2024 Joint Meeting
DESCRIPTION:
URL:https://www.suffolknyapt.net/event/april-2024-joint-meeting/
LOCATION:The Mansion at Oyster Bay\, Address1 S Woods Rd\, Woodbury\, NY\, 11797\, United States
CATEGORIES:Chapter,Chapter Events,Chapter Meetings
END:VEVENT
BEGIN:VEVENT
DTSTART;TZID=America/New_York:20240314T110000
DTEND;TZID=America/New_York:20240314T130000
DTSTAMP:20260424T111023
CREATED:20230807T132458Z
LAST-MODIFIED:20230807T132458Z
UID:460-1710414000-1710421200@www.suffolknyapt.net
SUMMARY:March 2024 Chapter Meeting
DESCRIPTION:
URL:https://www.suffolknyapt.net/event/march-2024-chapter-meeting/
LOCATION:The Oar House\, 264 West Ave\, Patchogue\, NY\, 11772\, United States
CATEGORIES:Chapter,Chapter Meetings
END:VEVENT
BEGIN:VEVENT
DTSTART;TZID=America/New_York:20240118T110000
DTEND;TZID=America/New_York:20240118T130000
DTSTAMP:20260424T111023
CREATED:20230807T132257Z
LAST-MODIFIED:20230807T132328Z
UID:458-1705575600-1705582800@www.suffolknyapt.net
SUMMARY:January 2024 Chapter Meeting
DESCRIPTION:
URL:https://www.suffolknyapt.net/event/january-2024-chapter-meeting/
LOCATION:The Oar House\, 264 West Ave\, Patchogue\, NY\, 11772\, United States
CATEGORIES:Chapter,Chapter Meetings
END:VEVENT
BEGIN:VEVENT
DTSTART;TZID=America/New_York:20231214T110000
DTEND;TZID=America/New_York:20231214T130000
DTSTAMP:20260424T111023
CREATED:20230807T132220Z
LAST-MODIFIED:20231128T152631Z
UID:456-1702551600-1702558800@www.suffolknyapt.net
SUMMARY:December 2023 Chapter Meeting and Holiday Party
DESCRIPTION:
URL:https://www.suffolknyapt.net/event/december-2023-chapter-meeting-and-holiday-party/
LOCATION:The Oar House\, 264 West Ave\, Patchogue\, NY\, 11772\, United States
CATEGORIES:Chapter,Chapter Meetings
END:VEVENT
BEGIN:VEVENT
DTSTART;TZID=America/New_York:20231116T080000
DTEND;TZID=America/New_York:20231116T130000
DTSTAMP:20260424T111024
CREATED:20230807T132118Z
LAST-MODIFIED:20230807T132118Z
UID:454-1700121600-1700139600@www.suffolknyapt.net
SUMMARY:November 2023 Chapter Meeting
DESCRIPTION:
URL:https://www.suffolknyapt.net/event/november-2023-chapter-meeting/
LOCATION:The Oar House\, 264 West Ave\, Patchogue\, NY\, 11772\, United States
CATEGORIES:Chapter,Chapter Meetings
END:VEVENT
BEGIN:VEVENT
DTSTART;TZID=America/New_York:20231019T110000
DTEND;TZID=America/New_York:20231019T130000
DTSTAMP:20260424T111024
CREATED:20230807T132027Z
LAST-MODIFIED:20230807T132037Z
UID:452-1697713200-1697720400@www.suffolknyapt.net
SUMMARY:October 2023 Chapter Meeting
DESCRIPTION:
URL:https://www.suffolknyapt.net/event/october-2023-chapter-meeting/
LOCATION:The Oar House\, 264 West Ave\, Patchogue\, NY\, 11772\, United States
CATEGORIES:Chapter,Chapter Meetings
END:VEVENT
BEGIN:VEVENT
DTSTART;TZID=America/New_York:20230518T110000
DTEND;TZID=America/New_York:20230518T130000
DTSTAMP:20260424T111024
CREATED:20220922T171430Z
LAST-MODIFIED:20220922T182635Z
UID:414-1684407600-1684414800@www.suffolknyapt.net
SUMMARY:May 2023 Chapter Meeting
DESCRIPTION:
URL:https://www.suffolknyapt.net/event/may-2023-chapter-meeting/
LOCATION:The Oar House\, 264 West Ave\, Patchogue\, NY\, 11772\, United States
CATEGORIES:Chapter,Chapter Meetings
END:VEVENT
BEGIN:VEVENT
DTSTART;TZID=America/New_York:20230323T110000
DTEND;TZID=America/New_York:20230323T130000
DTSTAMP:20260424T111024
CREATED:20220922T170605Z
LAST-MODIFIED:20220922T170605Z
UID:409-1679569200-1679576400@www.suffolknyapt.net
SUMMARY:March 2023 Chapter Meeting
DESCRIPTION:
URL:https://www.suffolknyapt.net/event/march-2023-chapter-meeting/
LOCATION:The Oar House\, 264 West Ave\, Patchogue\, NY\, 11772\, United States
CATEGORIES:Chapter,Chapter Meetings
END:VEVENT
BEGIN:VEVENT
DTSTART;VALUE=DATE:20230222
DTEND;VALUE=DATE:20230225
DTSTAMP:20260424T111024
CREATED:20220928T210721Z
LAST-MODIFIED:20220928T210721Z
UID:425-1677024000-1677283199@www.suffolknyapt.net
SUMMARY:NYAPT Winter Workshop 2023
DESCRIPTION:
URL:https://www.suffolknyapt.net/event/nyapt-winter-workshop-2023/
LOCATION:Marriott Albany\, 189 Wolf Road\, Albany\, NY\, 12205\, United States
CATEGORIES:Event,Meeting,State
END:VEVENT
BEGIN:VEVENT
DTSTART;TZID=America/New_York:20230119T110000
DTEND;TZID=America/New_York:20230119T170000
DTSTAMP:20260424T111024
CREATED:20220922T170509Z
LAST-MODIFIED:20220922T170509Z
UID:407-1674126000-1674147600@www.suffolknyapt.net
SUMMARY:January 2023 Chapter Meeting
DESCRIPTION:
URL:https://www.suffolknyapt.net/event/january-2023-chapter-meeting/
LOCATION:The Oar House\, 264 West Ave\, Patchogue\, NY\, 11772\, United States
CATEGORIES:Chapter,Chapter Meetings
END:VEVENT
BEGIN:VEVENT
DTSTART;TZID=America/New_York:20221216T110000
DTEND;TZID=America/New_York:20221216T130000
DTSTAMP:20260424T111024
CREATED:20220922T165717Z
LAST-MODIFIED:20220928T204851Z
UID:405-1671188400-1671195600@www.suffolknyapt.net
SUMMARY:December 2022 Chapter Meeting and Holiday Party
DESCRIPTION:
URL:https://www.suffolknyapt.net/event/december-2022-chapter-meeting-and-holiday-party/
LOCATION:The Oar House\, 264 West Ave\, Patchogue\, NY\, 11772\, United States
CATEGORIES:Chapter,Chapter Meetings
END:VEVENT
END:VCALENDAR